BEGIN:VCALENDAR
VERSION:2.0
PRODID:Town of Hillsborough, North Carolina Calendar Creator
METHOD:PUBLISH
BEGIN:VEVENT
DTSTAMP:20260421T140138
DTSTART:20260422T173000
DTEND:20260422T193000
SUMMARY:Earth Day Celebration
DESCRIPTION:Orange County will offer environmental and family hands-on activities at its <a href="https://www.facebook.com/share/p/18GstGHwtF/" target="_blank" rel="noopener">Earth Day Celebration</a>. Stop by and chat with Hillsborough Stormwater and Environmental Services Manager Terry Hackett!&nbsp;
X-ALT-DESC;FMTTYPE=text/html:Orange County will offer environmental and family hands-on activities at its <a href="https://www.facebook.com/share/p/18GstGHwtF/" target="_blank" rel="noopener">Earth Day Celebration</a>. Stop by and chat with Hillsborough Stormwater and Environmental Services Manager Terry Hackett!&nbsp;
LOCATION:Blackwood Farm Park\, 4215 N.C. 86 Chapel Hill\, North Carolina 27514
CLASS:PUBLIC
END:VEVENT
END:VCALENDAR
