BEGIN:VCALENDAR
VERSION:2.0
PRODID:Town of Hillsborough, North Carolina Calendar Creator
METHOD:PUBLISH
BEGIN:VEVENT
DTSTAMP:20260421T150453
DTSTART:20260422T183000
DTEND:20260422T203000
SUMMARY:Environmental Forum
DESCRIPTION:The Hillsborough Climate Challenge is hosting the panel discussion “Faucets to Floods: Who’s Footing the Bill?” on the impact of funding and policy changes on the community. Utilities Director Marie Strandwitz will take part in the discussion and information tables at the event.&nbsp;
X-ALT-DESC;FMTTYPE=text/html:The Hillsborough Climate Challenge is hosting the panel discussion “Faucets to Floods: Who’s Footing the Bill?” on the impact of funding and policy changes on the community. Utilities Director Marie Strandwitz will take part in the discussion and information tables at the event.&nbsp;
LOCATION:Whitted Human Services Center\, 300 W. Tryon St. Hillsborough\, North Carolina 27278
CLASS:PUBLIC
END:VEVENT
END:VCALENDAR
